View In:
ArcGIS JavaScript
ArcGIS Online Map Viewer
ArcGIS Earth
ArcMap
View Footprint In:
ArcGIS Online Map Viewer
Service Description: Old 1917 sketch map of Iredell County by N R Kinney showing property owners at the time.
Name: 1917_Map_of_Iredell_County_NC_N_R_Kinney
Description: Old 1917 sketch map of Iredell County by N R Kinney showing property owners at the time.
Single Fused Map Cache: false
Extent:
XMin: 1363915.7125979895
YMin: 641339.9997028172
XMax: 1503215.6796703287
YMax: 856187.617514371
Spatial Reference: 102719
(2264)
Initial Extent:
XMin: 1363915.7125979895
YMin: 641339.9997028172
XMax: 1503215.6796703287
YMax: 856187.617514371
Spatial Reference: 102719
(2264)
Full Extent:
XMin: 1363915.7125979895
YMin: 641339.9997028172
XMax: 1503215.6796703287
YMax: 856187.617514371
Spatial Reference: 102719
(2264)
Pixel Size X: 15.820552762332682
Pixel Size Y: 14.417367991649032
Band Count: 3
Pixel Type: U8
RasterFunction Infos: {"rasterFunctionInfos": [{
"name": "None",
"description": "",
"help": ""
}]}
Mensuration Capabilities: Basic
Has Histograms: true
Has Colormap: false
Has Multi Dimensions : false
Rendering Rule:
Min Scale: 0
Max Scale: 0
Copyright Text:
Service Data Type: esriImageServiceDataTypeProcessed
Min Values: 0, 9, 8
Max Values: 255, 255, 255
Mean Values: 213.62664286093, 204.20533462198, 175.3882721877
Standard Deviation Values: 58.933340842266, 54.503267285006, 52.444022437046
Object ID Field:
Fields:
None
Default Mosaic Method: Center
Allowed Mosaic Methods:
SortField:
SortValue: null
Mosaic Operator: First
Default Compression Quality: 75
Default Resampling Method: Bilinear
Max Record Count: null
Max Image Height: 4100
Max Image Width: 15000
Max Download Image Count: null
Max Mosaic Image Count: null
Allow Raster Function: true
Allow Compute TiePoints: false
Supports Statistics: false
Supports Advanced Queries: false
Use StandardizedQueries: true
Raster Type Infos:
Name: Raster Dataset
Description: Supports all ArcGIS Raster Datasets
Help:
Has Raster Attribute Table: false
Edit Fields Info: null
Ownership Based AccessControl For Rasters: null
Child Resources:
Info
Histograms
Key Properties
Legend
MultiDimensionalInfo
rasterFunctionInfos
Supported Operations:
Export Image
Identify
Measure
Compute Histograms
Compute Statistics Histograms
Get Samples
Compute Class Statistics
Query Boundary