View In:
ArcGIS JavaScript
ArcGIS Online Map Viewer
ArcGIS Earth
ArcMap
View Footprint In:
ArcGIS Online Map Viewer
Service Description: Old Historic Places in Iredell County
Name: HistoricPlaces_Map
Description: Old Historic Places in Iredell County
Single Fused Map Cache: false
Extent:
XMin: 1356020.2397019942
YMin: 625859.3980583905
XMax: 1521492.9485853757
YMax: 864047.3534121114
Spatial Reference: 102719
(2264)
Initial Extent:
XMin: 1356020.2397019942
YMin: 625859.3980583905
XMax: 1521492.9485853757
YMax: 864047.3534121114
Spatial Reference: 102719
(2264)
Full Extent:
XMin: 1356020.2397019942
YMin: 625859.3980583905
XMax: 1521492.9485853757
YMax: 864047.3534121114
Spatial Reference: 102719
(2264)
Pixel Size X: 99.56240005016934
Pixel Size Y: 104.60604099855992
Band Count: 3
Pixel Type: U8
RasterFunction Infos: {"rasterFunctionInfos": [{
"name": "None",
"description": "",
"help": ""
}]}
Mensuration Capabilities: Basic
Has Histograms: false
Has Colormap: false
Has Multi Dimensions : false
Rendering Rule:
Min Scale: 500000
Max Scale: 64000
Copyright Text:
Service Data Type: esriImageServiceDataTypeRGB
Min Values: N/A
Max Values: N/A
Mean Values: N/A
Standard Deviation Values: N/A
Object ID Field:
Fields:
None
Default Mosaic Method: Center
Allowed Mosaic Methods:
SortField:
SortValue: null
Mosaic Operator: First
Default Compression Quality: 75
Default Resampling Method: Bilinear
Max Record Count: null
Max Image Height: 4100
Max Image Width: 15000
Max Download Image Count: null
Max Mosaic Image Count: null
Allow Raster Function: true
Allow Compute TiePoints: false
Supports Statistics: false
Supports Advanced Queries: false
Use StandardizedQueries: true
Raster Type Infos:
Name: Raster Dataset
Description: Supports all ArcGIS Raster Datasets
Help:
Has Raster Attribute Table: false
Edit Fields Info: null
Ownership Based AccessControl For Rasters: null
Child Resources:
Info
Key Properties
Legend
MultiDimensionalInfo
rasterFunctionInfos
Supported Operations:
Export Image
Identify
Measure
Compute Histograms
Compute Statistics Histograms
Get Samples
Compute Class Statistics
Query Boundary