View In:
ArcGIS JavaScript
ArcGIS Online Map Viewer
ArcGIS Earth
ArcMap
View Footprint In:
ArcGIS Online Map Viewer
Service Description: USGS Historical Quadrangle in GeoTIFF format.
Name: NC_Wilkesboro_164018_1891_125000_geo
Description: USGS Historical Quadrangle in GeoTIFF format.
Single Fused Map Cache: false
Extent:
XMin: -25933.936540059072
YMin: 3981462.4146620436
XMax: 26538.230126607592
YMax: 4043904.0813287105
Spatial Reference: PROJCS["North_American_1927_Polyconic",GEOGCS["GCS_North_American_1927",DATUM["D_North_American_1927",SPHEROID["Clarke_1866",6378206.4,294.9786982]],PRIMEM["Greenwich",0.0],UNIT["Degree",0.0174532925199433]],PROJECTION["Polyconic"],PARAMETER["false_easting",0.0],PARAMETER["false_northing",0.0],PARAMETER["central_meridian",-81.25],PARAMETER["latitude_of_origin",0.0],UNIT["Meter",1.0]]
Initial Extent:
XMin: -25933.936540059072
YMin: 3981462.4146620436
XMax: 26538.230126607592
YMax: 4043904.0813287105
Spatial Reference: PROJCS["North_American_1927_Polyconic",GEOGCS["GCS_North_American_1927",DATUM["D_North_American_1927",SPHEROID["Clarke_1866",6378206.4,294.9786982]],PRIMEM["Greenwich",0.0],UNIT["Degree",0.0174532925199433]],PROJECTION["Polyconic"],PARAMETER["false_easting",0.0],PARAMETER["false_northing",0.0],PARAMETER["central_meridian",-81.25],PARAMETER["latitude_of_origin",0.0],UNIT["Meter",1.0]]
Full Extent:
XMin: -25933.936540059072
YMin: 3981462.4146620436
XMax: 26538.230126607592
YMax: 4043904.0813287105
Spatial Reference: PROJCS["North_American_1927_Polyconic",GEOGCS["GCS_North_American_1927",DATUM["D_North_American_1927",SPHEROID["Clarke_1866",6378206.4,294.9786982]],PRIMEM["Greenwich",0.0],UNIT["Degree",0.0174532925199433]],PROJECTION["Polyconic"],PARAMETER["false_easting",0.0],PARAMETER["false_northing",0.0],PARAMETER["central_meridian",-81.25],PARAMETER["latitude_of_origin",0.0],UNIT["Meter",1.0]]
Pixel Size X: 10.583333333333332
Pixel Size Y: 10.583333333333385
Band Count: 3
Pixel Type: U8
RasterFunction Infos: {"rasterFunctionInfos": [{
"name": "None",
"description": "",
"help": ""
}]}
Mensuration Capabilities: Basic
Has Histograms: false
Has Colormap: false
Has Multi Dimensions : false
Rendering Rule:
Min Scale: 0
Max Scale: 0
Copyright Text:
Service Data Type: esriImageServiceDataTypeRGB
Min Values: N/A
Max Values: N/A
Mean Values: N/A
Standard Deviation Values: N/A
Object ID Field:
Fields:
None
Default Mosaic Method: Center
Allowed Mosaic Methods:
SortField:
SortValue: null
Mosaic Operator: First
Default Compression Quality: 75
Default Resampling Method: Bilinear
Max Record Count: null
Max Image Height: 4100
Max Image Width: 15000
Max Download Image Count: null
Max Mosaic Image Count: null
Allow Raster Function: true
Allow Compute TiePoints: false
Supports Statistics: false
Supports Advanced Queries: false
Use StandardizedQueries: true
Raster Type Infos:
Name: Raster Dataset
Description: Supports all ArcGIS Raster Datasets
Help:
Has Raster Attribute Table: false
Edit Fields Info: null
Ownership Based AccessControl For Rasters: null
Child Resources:
Info
Key Properties
Legend
MultiDimensionalInfo
rasterFunctionInfos
Supported Operations:
Export Image
Identify
Measure
Compute Histograms
Compute Statistics Histograms
Get Samples
Compute Class Statistics
Query Boundary