View In:
ArcGIS JavaScript
ArcGIS Online Map Viewer
ArcGIS Earth
ArcMap
View Footprint In:
ArcGIS Online Map Viewer
Service Description: Pre-Civil War Church locations in Iredell County
Name: PreCivilWarChurches_Map
Description: Pre-Civil War Church locations in Iredell County
Single Fused Map Cache: false
Extent:
XMin: 1364070.8320704242
YMin: 633923.8841802407
XMax: 1508387.253818705
YMax: 852995.05904694
Spatial Reference: 102719
(2264)
Initial Extent:
XMin: 1364070.8320704242
YMin: 633923.8841802407
XMax: 1508387.253818705
YMax: 852995.05904694
Spatial Reference: 102719
(2264)
Full Extent:
XMin: 1364070.8320704242
YMin: 633923.8841802407
XMax: 1508387.253818705
YMax: 852995.05904694
Spatial Reference: 102719
(2264)
Pixel Size X: 98.10769663377346
Pixel Size Y: 100.26140726164726
Band Count: 1
Pixel Type: U8
RasterFunction Infos: {"rasterFunctionInfos": [{
"name": "None",
"description": "",
"help": ""
}]}
Mensuration Capabilities: Basic
Has Histograms: false
Has Colormap: false
Has Multi Dimensions : false
Rendering Rule:
Min Scale: 250000
Max Scale: 64000
Copyright Text:
Service Data Type: esriImageServiceDataTypeGeneric
Min Values: N/A
Max Values: N/A
Mean Values: N/A
Standard Deviation Values: N/A
Object ID Field:
Fields:
None
Default Mosaic Method: Center
Allowed Mosaic Methods:
SortField:
SortValue: null
Mosaic Operator: First
Default Compression Quality: 75
Default Resampling Method: Bilinear
Max Record Count: null
Max Image Height: 4100
Max Image Width: 15000
Max Download Image Count: null
Max Mosaic Image Count: null
Allow Raster Function: true
Allow Compute TiePoints: false
Supports Statistics: false
Supports Advanced Queries: false
Use StandardizedQueries: true
Raster Type Infos:
Name: Raster Dataset
Description: Supports all ArcGIS Raster Datasets
Help:
Has Raster Attribute Table: false
Edit Fields Info: null
Ownership Based AccessControl For Rasters: null
Child Resources:
Info
Key Properties
Legend
MultiDimensionalInfo
rasterFunctionInfos
Supported Operations:
Export Image
Identify
Measure
Compute Histograms
Compute Statistics Histograms
Get Samples
Compute Class Statistics
Query Boundary