View In:
ArcGIS JavaScript
ArcGIS Online Map Viewer
ArcGIS Earth
ArcMap
View Footprint In:
ArcGIS Online Map Viewer
Service Description: Old 1857 Map of Iredell County School Districts
Name: SchoolDistricts_1857_Map
Description: Old 1857 Map of Iredell County School Districts
Single Fused Map Cache: false
Extent:
XMin: 1340363.1679021833
YMin: 630756.4628958869
XMax: 1537404.0764868024
YMax: 858275.9165492267
Spatial Reference: 102719
(2264)
Initial Extent:
XMin: 1340363.1679021833
YMin: 630756.4628958869
XMax: 1537404.0764868024
YMax: 858275.9165492267
Spatial Reference: 102719
(2264)
Full Extent:
XMin: 1340363.1679021833
YMin: 630756.4628958869
XMax: 1537404.0764868024
YMax: 858275.9165492267
Spatial Reference: 102719
(2264)
Pixel Size X: 45.73837246625329
Pixel Size Y: 43.78742372081214
Band Count: 3
Pixel Type: U8
RasterFunction Infos: {"rasterFunctionInfos": [{
"name": "None",
"description": "",
"help": ""
}]}
Mensuration Capabilities: Basic
Has Histograms: false
Has Colormap: false
Has Multi Dimensions : false
Rendering Rule:
Min Scale: 0
Max Scale: 0
Copyright Text:
Service Data Type: esriImageServiceDataTypeRGB
Min Values: N/A
Max Values: N/A
Mean Values: N/A
Standard Deviation Values: N/A
Object ID Field:
Fields:
None
Default Mosaic Method: Center
Allowed Mosaic Methods:
SortField:
SortValue: null
Mosaic Operator: First
Default Compression Quality: 75
Default Resampling Method: Bilinear
Max Record Count: null
Max Image Height: 4100
Max Image Width: 15000
Max Download Image Count: null
Max Mosaic Image Count: null
Allow Raster Function: true
Allow Compute TiePoints: false
Supports Statistics: false
Supports Advanced Queries: false
Use StandardizedQueries: true
Raster Type Infos:
Name: Raster Dataset
Description: Supports all ArcGIS Raster Datasets
Help:
Has Raster Attribute Table: false
Edit Fields Info: null
Ownership Based AccessControl For Rasters: null
Child Resources:
Info
Key Properties
Legend
MultiDimensionalInfo
rasterFunctionInfos
Supported Operations:
Export Image
Identify
Measure
Compute Histograms
Compute Statistics Histograms
Get Samples
Compute Class Statistics
Query Boundary